BEGIN:VCALENDAR
VERSION:2.0
PRODID:-//M U H U K L U B I - ECPv6.15.16//NONSGML v1.0//EN
CALSCALE:GREGORIAN
METHOD:PUBLISH
X-ORIGINAL-URL:https://muhuklubi.ee
X-WR-CALDESC:Events for M U H U K L U B I
REFRESH-INTERVAL;VALUE=DURATION:PT1H
X-Robots-Tag:noindex
X-PUBLISHED-TTL:PT1H
BEGIN:VTIMEZONE
TZID:UTC
BEGIN:STANDARD
TZOFFSETFROM:+0000
TZOFFSETTO:+0000
TZNAME:UTC
DTSTART:20220101T000000
END:STANDARD
END:VTIMEZONE
BEGIN:VEVENT
DTSTART;VALUE=DATE:20230513
DTEND;VALUE=DATE:20230514
DTSTAMP:20260420T115536
CREATED:20230404T060907Z
LAST-MODIFIED:20230404T060907Z
UID:655-1683936000-1684022399@muhuklubi.ee
SUMMARY:Maima Masinapäev
DESCRIPTION:Maima Masinapäev toimub laupäeval\, 13. mail 2023 kell 10:00-16:00 Maima\, Põhja-Pärnumaa vald\, Pärnumaa. \nTraditsiooniline Maima Masinapäev avab kevadhooaja sel aastal 13. mail vanavara laada ja vanatehnika näitusega. Oodatud kõik liikuv ja liikumatu tehnika. Mõnus päev harukordse vanatehnika ja hea seltskonnaga. Broneeri kuupäev – info tuleb peagi.
URL:https://muhuklubi.ee/event/maima-masinapaev/
END:VEVENT
END:VCALENDAR