BEGIN:VCALENDAR
VERSION:2.0
PRODID:-//M U H U K L U B I - ECPv6.15.16//NONSGML v1.0//EN
CALSCALE:GREGORIAN
METHOD:PUBLISH
X-WR-CALNAME:M U H U K L U B I
X-ORIGINAL-URL:https://muhuklubi.ee
X-WR-CALDESC:Events for M U H U K L U B I
REFRESH-INTERVAL;VALUE=DURATION:PT1H
X-Robots-Tag:noindex
X-PUBLISHED-TTL:PT1H
BEGIN:VTIMEZONE
TZID:UTC
BEGIN:STANDARD
TZOFFSETFROM:+0000
TZOFFSETTO:+0000
TZNAME:UTC
DTSTART:20220101T000000
END:STANDARD
END:VTIMEZONE
BEGIN:VEVENT
DTSTART;VALUE=DATE:20230708
DTEND;VALUE=DATE:20230709
DTSTAMP:20260420T030342
CREATED:20230404T054602Z
LAST-MODIFIED:20230404T054602Z
UID:643-1688774400-1688860799@muhuklubi.ee
SUMMARY:Suvepäevad 2023
DESCRIPTION:Info https://muhuklubi.ee/forums/topic/suvepaevad-2023/
URL:https://muhuklubi.ee/event/suvepaevad-2023/
END:VEVENT
END:VCALENDAR