BEGIN:VCALENDAR
VERSION:2.0
PRODID:-//M U H U K L U B I - ECPv6.15.16//NONSGML v1.0//EN
CALSCALE:GREGORIAN
METHOD:PUBLISH
X-ORIGINAL-URL:https://muhuklubi.ee
X-WR-CALDESC:Events for M U H U K L U B I
REFRESH-INTERVAL;VALUE=DURATION:PT1H
X-Robots-Tag:noindex
X-PUBLISHED-TTL:PT1H
BEGIN:VTIMEZONE
TZID:Europe/Moscow
BEGIN:STANDARD
TZOFFSETFROM:+0300
TZOFFSETTO:+0300
TZNAME:MSK
DTSTART:20230101T000000
END:STANDARD
END:VTIMEZONE
BEGIN:VEVENT
DTSTART;VALUE=DATE:20240907
DTEND;VALUE=DATE:20240908
DTSTAMP:20260420T193218
CREATED:20240806T052207Z
LAST-MODIFIED:20240806T052207Z
UID:1085-1725667200-1725753599@muhuklubi.ee
SUMMARY:Legendaarne Kiige nagu ikka. 07.sept
DESCRIPTION:Info ja kirja panek https://muhuklubi.ee/forums/topic/legendaarne-kiige-07-sept-2024/ \n \n 
URL:https://muhuklubi.ee/event/legendaarne-kiige-nagu-ikka-07-sept/
ATTACH;FMTTYPE=image/jpeg:https://muhuklubi.ee/wp-content/uploads/2024/08/306505669_412950334197733_2014793614905350469_n.jpg
END:VEVENT
END:VCALENDAR