BEGIN:VCALENDAR
VERSION:2.0
PRODID:-//M U H U K L U B I - ECPv6.15.16//NONSGML v1.0//EN
CALSCALE:GREGORIAN
METHOD:PUBLISH
X-ORIGINAL-URL:https://muhuklubi.ee
X-WR-CALDESC:Events for M U H U K L U B I
REFRESH-INTERVAL;VALUE=DURATION:PT1H
X-Robots-Tag:noindex
X-PUBLISHED-TTL:PT1H
BEGIN:VTIMEZONE
TZID:Europe/Moscow
BEGIN:STANDARD
TZOFFSETFROM:+0300
TZOFFSETTO:+0300
TZNAME:MSK
DTSTART:20240101T000000
END:STANDARD
END:VTIMEZONE
BEGIN:VEVENT
DTSTART;VALUE=DATE:20250913
DTEND;VALUE=DATE:20250914
DTSTAMP:20260421T074325
CREATED:20250804T141122Z
LAST-MODIFIED:20250812T065751Z
UID:1448-1757721600-1757807999@muhuklubi.ee
SUMMARY:Muhuklubi hooaja lõpetamine
DESCRIPTION:Info ja regamine foorumi teemas siin: https://muhuklubi.ee/forums/topic/muhuklubi-hooaja-lopetamine-2025/
URL:https://muhuklubi.ee/event/muhuklubi-hooaja-lopetamine/
END:VEVENT
END:VCALENDAR