BEGIN:VCALENDAR
VERSION:2.0
PRODID:-//M U H U K L U B I - ECPv6.15.16//NONSGML v1.0//EN
CALSCALE:GREGORIAN
METHOD:PUBLISH
X-WR-CALNAME:M U H U K L U B I
X-ORIGINAL-URL:https://muhuklubi.ee
X-WR-CALDESC:Events for M U H U K L U B I
REFRESH-INTERVAL;VALUE=DURATION:PT1H
X-Robots-Tag:noindex
X-PUBLISHED-TTL:PT1H
BEGIN:VTIMEZONE
TZID:UTC
BEGIN:STANDARD
TZOFFSETFROM:+0000
TZOFFSETTO:+0000
TZNAME:UTC
DTSTART:20220101T000000
END:STANDARD
END:VTIMEZONE
BEGIN:VEVENT
DTSTART;TZID=UTC:20230506T080000
DTEND;TZID=UTC:20230507T170000
DTSTAMP:20260420T074054
CREATED:20230404T060721Z
LAST-MODIFIED:20230404T060721Z
UID:653-1683360000-1683478800@muhuklubi.ee
SUMMARY:Suur Vanamõisa Kevadlaat
DESCRIPTION:Vanamõisa karavanipargis Saue vallas toimub 6.-7. mail 2023 algusega kell 10:00 Suur Vanamõisa kevadlaat. Oodatud on kauplejad\, kes pakuvad müügiks istikuid ja taimi\, aiakaupu\, käsitööd\, vanavara\, riidekaupu\, söögi-ja joogipoolist ning muud põnevat.
URL:https://muhuklubi.ee/event/suur-vanamoisa-kevadlaat/
END:VEVENT
BEGIN:VEVENT
DTSTART;VALUE=DATE:20230507
DTEND;VALUE=DATE:20230508
DTSTAMP:20260420T074054
CREATED:20230125T153156Z
LAST-MODIFIED:20230125T153156Z
UID:628-1683417600-1683503999@muhuklubi.ee
SUMMARY:Tagadi laat
DESCRIPTION:
URL:https://muhuklubi.ee/event/tagadi-laat/
END:VEVENT
BEGIN:VEVENT
DTSTART;VALUE=DATE:20230513
DTEND;VALUE=DATE:20230514
DTSTAMP:20260420T074054
CREATED:20230404T060907Z
LAST-MODIFIED:20230404T060907Z
UID:655-1683936000-1684022399@muhuklubi.ee
SUMMARY:Maima Masinapäev
DESCRIPTION:Maima Masinapäev toimub laupäeval\, 13. mail 2023 kell 10:00-16:00 Maima\, Põhja-Pärnumaa vald\, Pärnumaa. \nTraditsiooniline Maima Masinapäev avab kevadhooaja sel aastal 13. mail vanavara laada ja vanatehnika näitusega. Oodatud kõik liikuv ja liikumatu tehnika. Mõnus päev harukordse vanatehnika ja hea seltskonnaga. Broneeri kuupäev – info tuleb peagi.
URL:https://muhuklubi.ee/event/maima-masinapaev/
END:VEVENT
BEGIN:VEVENT
DTSTART;VALUE=DATE:20230527
DTEND;VALUE=DATE:20230529
DTSTAMP:20260420T074054
CREATED:20230125T144908Z
LAST-MODIFIED:20230125T144908Z
UID:625-1685145600-1685318399@muhuklubi.ee
SUMMARY:Mai kuu väljasõit
DESCRIPTION:
URL:https://muhuklubi.ee/event/mai-kuu-valjasoit/
END:VEVENT
END:VCALENDAR