BEGIN:VCALENDAR
VERSION:2.0
PRODID:-//M U H U K L U B I - ECPv6.15.16//NONSGML v1.0//EN
CALSCALE:GREGORIAN
METHOD:PUBLISH
X-WR-CALNAME:M U H U K L U B I
X-ORIGINAL-URL:https://muhuklubi.ee
X-WR-CALDESC:Events for M U H U K L U B I
REFRESH-INTERVAL;VALUE=DURATION:PT1H
X-Robots-Tag:noindex
X-PUBLISHED-TTL:PT1H
BEGIN:VTIMEZONE
TZID:UTC
BEGIN:STANDARD
TZOFFSETFROM:+0000
TZOFFSETTO:+0000
TZNAME:UTC
DTSTART:20220101T000000
END:STANDARD
END:VTIMEZONE
BEGIN:VEVENT
DTSTART;TZID=UTC:20230617T080000
DTEND;TZID=UTC:20230618T170000
DTSTAMP:20260420T030342
CREATED:20230404T061130Z
LAST-MODIFIED:20230404T061130Z
UID:657-1686988800-1687107600@muhuklubi.ee
SUMMARY:Vastseliina Maarahva Laat ja Võru täika
DESCRIPTION:Vastseliina Maarahva Laat toimub 17.-18. juuni 2023. \nJaanipäevaeelsele nädalavahetusele ei planeeri vastseliinlane suuri tegemisi. See on aeg\, mil iga kohaliku kalendris on olulisim sündmus. \nVastseliina laat on kui laps\, kes on sündinud armastusest. Armastusest oma kodupaiga vastu. Hingejõust\, mille on korraldajatele andnud oma juurte tunnetamine. Tahtmisest oma kodukohta ka teistele tutvustada. Laat on eelkõige kauplemise koht\, samas on see ka soodne võimalus igale ettevõtjale oma toodangu tutvustamiseks ja kontaktide loomiseks. Oluline osa on käsitööl. Kauplemisele toob vaheldust mitmekülgne kultuuriprogramm: esinemised\, kunstinäitused\, spordivõistlused. \nVastseliinlane on maainimene\, talle on lähedane loodus ja maaga seotu. Seetõttu on see laat eelkõige maarahvale mõeldud. Aukohal on käsitöö ja talunike toodetu ning kõik maalähedane ja maainimesele vajalik. Kuid pettuma ei pea ka teistsuguste huvidega inimene: laada kirevas kaubavalikus leidub kõigile midagi meelepärast ja peale olmerõõmu pakuvad hingekosutust kunstinäitused ning hulgaliselt esinejaid kodu- ja välismaaltki.
URL:https://muhuklubi.ee/event/vastseliina-maarahva-laat-ja-voru-taika/
END:VEVENT
END:VCALENDAR