BEGIN:VCALENDAR
VERSION:2.0
PRODID:-//M U H U K L U B I - ECPv6.15.16//NONSGML v1.0//EN
CALSCALE:GREGORIAN
METHOD:PUBLISH
X-ORIGINAL-URL:https://muhuklubi.ee
X-WR-CALDESC:Events for M U H U K L U B I
REFRESH-INTERVAL;VALUE=DURATION:PT1H
X-Robots-Tag:noindex
X-PUBLISHED-TTL:PT1H
BEGIN:VTIMEZONE
TZID:Europe/Moscow
BEGIN:STANDARD
TZOFFSETFROM:+0300
TZOFFSETTO:+0300
TZNAME:MSK
DTSTART:20230101T000000
END:STANDARD
END:VTIMEZONE
BEGIN:VEVENT
DTSTART;VALUE=DATE:20241217
DTEND;VALUE=DATE:20241218
DTSTAMP:20260421T032113
CREATED:20240917T203239Z
LAST-MODIFIED:20241201T194707Z
UID:1137-1734393600-1734479999@muhuklubi.ee
SUMMARY:Muhuklubi sünnipäev 20
DESCRIPTION:KOHT: Hiiu Pubi (https://hiiupubi.eu/) \nKellaaeg kl 19.00 \nMa ise jõuan võibolla natuke hilinemisega\, tulen Narvast komandeeringust otse sinna. \nMenüüd ette ei ole tellitud\, igaüks tellib ise mida soovib.
URL:https://muhuklubi.ee/event/muhuklubi-sunnipaev-20/
ATTACH;FMTTYPE=image/jpeg:https://muhuklubi.ee/wp-content/uploads/2024/09/84385537_1216658148523897_1520972799982698496_o.jpg
END:VEVENT
END:VCALENDAR