BEGIN:VCALENDAR
VERSION:2.0
PRODID:-//M U H U K L U B I - ECPv6.15.16//NONSGML v1.0//EN
CALSCALE:GREGORIAN
METHOD:PUBLISH
X-ORIGINAL-URL:https://muhuklubi.ee
X-WR-CALDESC:Events for M U H U K L U B I
REFRESH-INTERVAL;VALUE=DURATION:PT1H
X-Robots-Tag:noindex
X-PUBLISHED-TTL:PT1H
BEGIN:VTIMEZONE
TZID:Europe/Moscow
BEGIN:STANDARD
TZOFFSETFROM:+0300
TZOFFSETTO:+0300
TZNAME:MSK
DTSTART:20250101T000000
END:STANDARD
END:VTIMEZONE
BEGIN:VEVENT
DTSTART;VALUE=DATE:20260214
DTEND;VALUE=DATE:20260215
DTSTAMP:20260420T075020
CREATED:20251228T135249Z
LAST-MODIFIED:20251228T135311Z
UID:1513-1771027200-1771113599@muhuklubi.ee
SUMMARY:Uunikute Talveralli 2026
DESCRIPTION:https://forum.automoto.ee/showthread.php?tid=67596
URL:https://muhuklubi.ee/event/uunikute-talveralli-2026/
END:VEVENT
END:VCALENDAR