BEGIN:VCALENDAR
VERSION:2.0
PRODID:-//M U H U K L U B I - ECPv6.15.16//NONSGML v1.0//EN
CALSCALE:GREGORIAN
METHOD:PUBLISH
X-WR-CALNAME:M U H U K L U B I
X-ORIGINAL-URL:https://muhuklubi.ee
X-WR-CALDESC:Events for M U H U K L U B I
REFRESH-INTERVAL;VALUE=DURATION:PT1H
X-Robots-Tag:noindex
X-PUBLISHED-TTL:PT1H
BEGIN:VTIMEZONE
TZID:Europe/Moscow
BEGIN:STANDARD
TZOFFSETFROM:+0300
TZOFFSETTO:+0300
TZNAME:MSK
DTSTART:20250101T000000
END:STANDARD
END:VTIMEZONE
BEGIN:VEVENT
DTSTART;VALUE=DATE:20260627
DTEND;VALUE=DATE:20260628
DTSTAMP:20260420T030342
CREATED:20241006T212448Z
LAST-MODIFIED:20241006T212448Z
UID:1252-1782518400-1782604799@muhuklubi.ee
SUMMARY:ZAZ car meet in Riga
DESCRIPTION:
URL:https://muhuklubi.ee/event/zaz-car-meet-in-riga/
LOCATION:Riga \, Läti\, Latvia
ATTACH;FMTTYPE=image/jpeg:https://muhuklubi.ee/wp-content/uploads/2024/10/IMG_0208.jpeg
END:VEVENT
END:VCALENDAR